BEGIN:VCALENDAR
VERSION:2.0
PRODID:-//wp-events-plugin.com//7.2.3.1//EN
BEGIN:VEVENT
UID:13@solleysel.nl
DTSTART:20250203T123000Z
DTEND:20250207T133000Z
DTSTAMP:20250124T104539Z
URL:https://www.solleysel.nl/events/warme-chocomelkpauzes/
SUMMARY:Warme Chocomelkpauzes
DESCRIPTION:Deze hele week zal de Sjaarcie Warme Chocomelk met diverse topp
 ings serveren in de pauze!
END:VEVENT
END:VCALENDAR