BEGIN:VCALENDAR
VERSION:2.0
PRODID:-//wp-events-plugin.com//7.2.3.1//EN
BEGIN:VEVENT
UID:11@solleysel.nl
DTSTART;TZID=Europe/Amsterdam:20250129T200000
DTEND;TZID=Europe/Amsterdam:20250129T220000
DTSTAMP:20250124T104247Z
URL:https://www.solleysel.nl/events/springles/
SUMMARY:Springles
DESCRIPTION:\n\n\n~ Springles ~\n\n\nNa de drukke feestdagen is het weer ti
 jd voor een springles! Let op: De prijs is verhoogd naar 30 euro Meld je s
 nel aan via de link: https://forms.gle/qjJWPpYQMY88GHjU6\n\n\n\n
LOCATION:Manege Groenewoude\, Ekris 38\, Woudenberg\, Utrecht\,  3931 PX\, 
 Nederland
X-APPLE-STRUCTURED-LOCATION;VALUE=URI;X-ADDRESS=Ekris 38\, Woudenberg\, Utr
 echt\,  3931 PX\, Nederland;X-APPLE-RADIUS=100;X-TITLE=Manege Groenewoude:
 geo:0,0
END:VEVENT
BEGIN:VTIMEZONE
TZID:Europe/Amsterdam
X-LIC-LOCATION:Europe/Amsterdam
BEGIN:STANDARD
DTSTART:20241027T020000
TZOFFSETFROM:+0200
TZOFFSETTO:+0100
TZNAME:CET
END:STANDARD
END:VTIMEZONE
END:VCALENDAR