BEGIN:VCALENDAR
VERSION:2.0
PRODID:-//wp-events-plugin.com//7.2.3.1//EN
BEGIN:VEVENT
UID:12@solleysel.nl
DTSTART:20250131T000000Z
DTEND:20250131T000000Z
DTSTAMP:20250124T104417Z
URL:https://www.solleysel.nl/events/paardenvoetbal/
SUMMARY:Paardenvoetbal
DESCRIPTION:\nOm de paarden ook wat sportieve activiteit te gunnen gaan we 
 donderdag een potje paardenvoetballen. Kom ‘s avonds vanaf 17 langs om m
 et een van de onderwijspaarden een balletje te trappen\, en misschien hale
 n ze (of jij) hun innerlijke topsporter wel naar boven!\n\n\nErvaring of a
 anmelden is niet nodig.\n
END:VEVENT
END:VCALENDAR